BEGIN:VCALENDAR
VERSION:2.0
PRODID:-//Sabre//Sabre VObject 4.5.8//EN
CALSCALE:GREGORIAN
BEGIN:VTIMEZONE
TZID:Europe/Zurich
X-LIC-LOCATION:Europe/Zurich
TZURL:http://tzurl.org/zoneinfo/Europe/Zurich
BEGIN:DAYLIGHT
TZOFFSETFROM:+0100
TZOFFSETTO:+0200
TZNAME:CEST
DTSTART:19810329T020000
RRULE:FREQ=YEARLY;BYMONTH=3;BYDAY=-1SU
END:DAYLIGHT
BEGIN:STANDARD
TZOFFSETFROM:+0200
TZOFFSETTO:+0100
TZNAME:CET
DTSTART:19961027T030000
RRULE:FREQ=YEARLY;BYMONTH=10;BYDAY=-1SU
END:STANDARD
END:VTIMEZONE
BEGIN:VEVENT
UID:news5163@zasb.unibas.ch
DTSTAMP;TZID=Europe/Zurich:20260422T143756
DTSTART;TZID=Europe/Zurich:20260505T000000
SUMMARY:Konferenz: "Transcultural relations and colonial legacies"
DESCRIPTION:Diese internationale Konferenz widmet sich transkulturellen Bez
 iehungen und kolonialen Vermächtnissen aus europäischen und afrikanische
 n Perspektiven. \\r\\nIn drei thematischen Schwerpunkten werden Fragen zu
  afrikanischem Kulturerbe und immateriellen Dimensionen der Restitution\, 
 community‑zentrierten und pluriversalen Erinnerungskulturen sowie dekolo
 nialen digitalen Praktiken behandelt. Die Konferenz ist Teil des zweijähr
 igen Projekts „Reframing Colonial Legacies“ (Zeppelin Universität und
  University of Cape Coast\, gefördert durch den DAAD). \\r\\nSie findet 
 am 5. und 7. Mai 2026 in hybrider Form an der Zeppelin Universität in Fri
 edrichshafen statt und richtet sich an ein internationales Publikum aus Wi
 ssenschaft und Kulturpraxis.
X-ALT-DESC:<p>Diese internationale Konferenz widmet sich transkulturellen B
 eziehungen und kolonialen Vermächtnissen aus europäischen und afrikanisc
 hen Perspektiven.&nbsp\;</p>\n<p>In drei thematischen Schwerpunkten werden
  Fragen zu afrikanischem Kulturerbe und immateriellen Dimensionen der Rest
 itution\, community‑zentrierten und pluriversalen Erinnerungskulturen so
 wie dekolonialen digitalen Praktiken behandelt. Die Konferenz ist Teil des
  zweijährigen Projekts „Reframing Colonial Legacies“ (Zeppelin Univer
 sität und University of Cape Coast\, gefördert durch den DAAD).&nbsp\;</
 p>\n<p>Sie findet am 5. und 7. Mai 2026 in hybrider Form an der Zeppelin U
 niversität in Friedrichshafen statt und richtet sich an ein international
 es Publikum aus Wissenschaft und Kulturpraxis.</p>
DTEND;TZID=Europe/Zurich:20260507T000000
END:VEVENT
END:VCALENDAR
