BEGIN:VCALENDAR
VERSION:2.0
PRODID:-//Sabre//Sabre VObject 4.5.8//EN
CALSCALE:GREGORIAN
BEGIN:VTIMEZONE
TZID:Europe/Zurich
X-LIC-LOCATION:Europe/Zurich
TZURL:http://tzurl.org/zoneinfo/Europe/Zurich
BEGIN:DAYLIGHT
TZOFFSETFROM:+0100
TZOFFSETTO:+0200
TZNAME:CEST
DTSTART:19810329T020000
RRULE:FREQ=YEARLY;BYMONTH=3;BYDAY=-1SU
END:DAYLIGHT
BEGIN:STANDARD
TZOFFSETFROM:+0200
TZOFFSETTO:+0100
TZNAME:CET
DTSTART:19961027T030000
RRULE:FREQ=YEARLY;BYMONTH=10;BYDAY=-1SU
END:STANDARD
END:VTIMEZONE
BEGIN:VEVENT
UID:news5161@zasb.unibas.ch
DTSTAMP;TZID=Europe/Zurich:20260421T133538
DTSTART;TZID=Europe/Zurich:20260512T150000
SUMMARY:Webinar: "Die Würde des Wassers – Heilige Flüsse und Seen"
DESCRIPTION:In der neuen Webinar-Reihe "Global Voices - Acting Together for
  Peace" fragt Mission 21 nach einem respektvollen und zukunftsfähigen Ver
 hältnis zur Erde und ihren Elementen\, Erde\, Wasser und Feuer. In diesem
  zweiten Webinar der Reihe geht es um die Verbundenheit indigener Gemeinsc
 haften mit dem Wasser und um Beispiele und Möglichkeiten des Gewässersch
 utzes.\\r\\nMit Julio César Mejía Tapia – Jurist\, Aktivist und Forsch
 er aus Peru –\, María Ximena González-Serrano – Juristin\, Aktivisti
 n\, Forscherin aus Kolumbien und der Schweiz – sowie dem indigenen Fraue
 nnetzwerk zum Schutz des Titicacasees.\\r\\nVorträge und Diskussion auf S
 panisch und Englisch\, Übersetzung ins Deutsche.
X-ALT-DESC:<p>In der neuen Webinar-Reihe "Global Voices - Acting Together f
 or Peace" fragt Mission 21 nach einem respektvollen und zukunftsfähigen V
 erhältnis zur Erde und ihren Elementen\, Erde\, Wasser und Feuer. In dies
 em zweiten Webinar der Reihe geht es um die Verbundenheit indigener Gemein
 schaften mit dem Wasser und um Beispiele und Möglichkeiten des Gewässers
 chutzes.</p>\n<p>Mit Julio César Mejía Tapia – Jurist\, Aktivist und F
 orscher aus Peru –\, María Ximena González-Serrano – Juristin\, Akti
 vistin\, Forscherin aus Kolumbien und der Schweiz – sowie dem indigenen 
 Frauennetzwerk zum Schutz des Titicacasees.</p>\n<p>Vorträge und Diskussi
 on auf Spanisch und Englisch\, Übersetzung ins Deutsche.</p>
DTEND;TZID=Europe/Zurich:20260512T163000
END:VEVENT
END:VCALENDAR
