BEGIN:VCALENDAR
VERSION:2.0
PRODID:-//Sabre//Sabre VObject 4.5.8//EN
CALSCALE:GREGORIAN
BEGIN:VTIMEZONE
TZID:Europe/Zurich
X-LIC-LOCATION:Europe/Zurich
TZURL:http://tzurl.org/zoneinfo/Europe/Zurich
BEGIN:DAYLIGHT
TZOFFSETFROM:+0100
TZOFFSETTO:+0200
TZNAME:CEST
DTSTART:19810329T020000
RRULE:FREQ=YEARLY;BYMONTH=3;BYDAY=-1SU
END:DAYLIGHT
BEGIN:STANDARD
TZOFFSETFROM:+0200
TZOFFSETTO:+0100
TZNAME:CET
DTSTART:19961027T030000
RRULE:FREQ=YEARLY;BYMONTH=10;BYDAY=-1SU
END:STANDARD
END:VTIMEZONE
BEGIN:VEVENT
UID:news5151@zasb.unibas.ch
DTSTAMP;TZID=Europe/Zurich:20260415T121836
DTSTART;TZID=Europe/Zurich:20260429T143000
SUMMARY:AAP Public Dialogue: "Governing AI in Africa: From Policy Framework
 s to Enabling Ecosystems"
DESCRIPTION:The Alliance for African Partnership (AAP)\, in collaboration w
 ith the African Technology Policy Studies Network (ATPS)\, invites you to 
 a timely Public Dialogue titled “Governing AI in Africa: From Policy Fra
 meworks to Enabling Ecosystems”.
X-ALT-DESC:<p>The Alliance for African Partnership (AAP)\, in collaboration
  with the African Technology Policy Studies Network (ATPS)\, invites you t
 o a timely Public Dialogue titled “Governing AI in Africa: From Policy F
 rameworks to Enabling Ecosystems”.</p>
END:VEVENT
END:VCALENDAR
