BEGIN:VCALENDAR
VERSION:2.0
PRODID:-//Sabre//Sabre VObject 4.5.8//EN
CALSCALE:GREGORIAN
BEGIN:VTIMEZONE
TZID:Europe/Zurich
X-LIC-LOCATION:Europe/Zurich
TZURL:http://tzurl.org/zoneinfo/Europe/Zurich
BEGIN:DAYLIGHT
TZOFFSETFROM:+0100
TZOFFSETTO:+0200
TZNAME:CEST
DTSTART:19810329T020000
RRULE:FREQ=YEARLY;BYMONTH=3;BYDAY=-1SU
END:DAYLIGHT
BEGIN:STANDARD
TZOFFSETFROM:+0200
TZOFFSETTO:+0100
TZNAME:CET
DTSTART:19961027T030000
RRULE:FREQ=YEARLY;BYMONTH=10;BYDAY=-1SU
END:STANDARD
END:VTIMEZONE
BEGIN:VEVENT
UID:news5136@zasb.unibas.ch
DTSTAMP;TZID=Europe/Zurich:20260408T101951
DTSTART;TZID=Europe/Zurich:20260419T180000
SUMMARY:Experimentelle Runway & Fashion Show: “WAX COLLECTION”
DESCRIPTION:Experimentelle Runway & Fashion Show der WAX Collection (Kumasi
 \, Accra\, Basel\, Berlin)\\r\\nWenn Muster Erzählungen sind – was gesc
 hieht\, wenn wir sie erneut drucken? Die WAX Collection liest Textilien al
 s Archive globaler Bewegungen: von industrieller Reproduktion in Europa bi
 s zu ihren Neuinterpretationen in Westafrika. Ausgangspunkt dieser Show is
 t die historische Verbindung zwischen Basel und Ghana – kopierte Stoffe\
 , verschobene Bedeutungen\, zirkulierende Machtverhältnisse. “WAX COLLE
 CTION” kehrt diese Bewegung um.\\r\\nDie Werkschau “WAX THE CHURCH\, W
 AX THE FUTURE\, WAX THE RICH” verwandelt diese Geschichte in eine visuel
 le Intervention\, die Mode als globalen Denkraum begreift: Kleidung sprich
 t und widerspricht. Entstanden in kollaborativen Prozessen zwischen Accra\
 , Kumasi\, Basel\, Berlin\, Paris und Palermo\, verbindet die Schau experi
 mentelle Materialien und transparente Schichtungen zu einem kollektiven Te
 xtil-Manifest: ein Laufsteg als Ort ästhetischer Forschung und zukünftig
 er Imagination.\\r\\nMit Publikumsgespräch im Anschluss – eine Produkti
 on der GROUP50:50
X-ALT-DESC:<p>Experimentelle Runway &amp\; Fashion Show der WAX Collection 
 (Kumasi\, Accra\, Basel\, Berlin)</p>\n<p>Wenn Muster Erzählungen sind 
 – was geschieht\, wenn wir sie erneut drucken? Die WAX Collection liest 
 Textilien als Archive globaler Bewegungen: von industrieller Reproduktion 
 in Europa bis zu ihren Neuinterpretationen in Westafrika. Ausgangspunkt di
 eser Show ist die historische Verbindung zwischen Basel und Ghana – kopi
 erte Stoffe\, verschobene Bedeutungen\, zirkulierende Machtverhältnisse. 
 “WAX COLLECTION” kehrt diese Bewegung um.</p>\n<p>Die Werkschau “WAX
  THE CHURCH\, WAX THE FUTURE\, WAX THE RICH” verwandelt diese Geschichte
  in eine visuelle Intervention\, die Mode als globalen Denkraum begreift: 
 Kleidung spricht und widerspricht. Entstanden in kollaborativen Prozessen 
 zwischen Accra\, Kumasi\, Basel\, Berlin\, Paris und Palermo\, verbindet d
 ie Schau experimentelle Materialien und transparente Schichtungen zu einem
  kollektiven Textil-Manifest: ein Laufsteg als Ort ästhetischer Forschung
  und zukünftiger Imagination.</p>\n<p>Mit Publikumsgespräch im Anschluss
  – eine Produktion der GROUP50:50</p>
END:VEVENT
END:VCALENDAR
