BEGIN:VCALENDAR
VERSION:2.0
PRODID:-//Sabre//Sabre VObject 4.5.8//EN
CALSCALE:GREGORIAN
BEGIN:VTIMEZONE
TZID:Europe/Zurich
X-LIC-LOCATION:Europe/Zurich
TZURL:http://tzurl.org/zoneinfo/Europe/Zurich
BEGIN:DAYLIGHT
TZOFFSETFROM:+0100
TZOFFSETTO:+0200
TZNAME:CEST
DTSTART:19810329T020000
RRULE:FREQ=YEARLY;BYMONTH=3;BYDAY=-1SU
END:DAYLIGHT
BEGIN:STANDARD
TZOFFSETFROM:+0200
TZOFFSETTO:+0100
TZNAME:CET
DTSTART:19961027T030000
RRULE:FREQ=YEARLY;BYMONTH=10;BYDAY=-1SU
END:STANDARD
END:VTIMEZONE
BEGIN:VEVENT
UID:news5165@zasb.unibas.ch
DTSTAMP;TZID=Europe/Zurich:20260421T171342
DTSTART;TZID=Europe/Zurich:20260423T180000
SUMMARY:Katarzyna Puzon\, Philip Kwame Boafo & Nandiuasora Mazeingo: "Resti
 tution and Reparation in Africa and the Postcolonial Condition"
DESCRIPTION:The Africa Institute\, Global Studies University\, invites you 
 to a joint lecture featuring fellows from the “Restitution and Reparatio
 n: Africa and the Post-Colonial Condition” Fellowship (Spring 2026).\\r\
 \nThis session brings together three fellows whose work engages critically
  with questions of restitution\, memory\, and the afterlives of colonial a
 rchives and objects. The lecture will be presented by Katarzyna Puzon (ant
 hropologist and incoming Senior Fellow\, Faculty of Law\, Humboldt Univers
 ity of Berlin)\, Philip Kwame Boafo (Independent Scholar-Artist)\, and Na
 ndiuasora Mazeingo (Chairperson\, Global Ovaherero Genocide Foundation\, a
 nd doctoral candidate\, University of Aristotle\, Thessaloniki).
X-ALT-DESC:<p>The Africa Institute\, Global Studies University\, invites yo
 u to a joint lecture featuring fellows from the “Restitution and Reparat
 ion: Africa and the Post-Colonial Condition” Fellowship (Spring 2026).</
 p>\n<p>This session brings together three fellows whose work engages criti
 cally with questions of restitution\, memory\, and the afterlives of colon
 ial archives and objects. The lecture will be presented by Katarzyna Puzon
  (anthropologist and incoming Senior Fellow\, Faculty of Law\, Humboldt Un
 iversity of Berlin)\,&nbsp\;Philip Kwame Boafo (Independent Scholar-Artist
 )\, and Nandiuasora Mazeingo (Chairperson\, Global Ovaherero Genocide Foun
 dation\, and doctoral candidate\, University of Aristotle\, Thessaloniki).
 </p>
DTEND;TZID=Europe/Zurich:20260423T200000
END:VEVENT
END:VCALENDAR
