BEGIN:VCALENDAR
VERSION:2.0
PRODID:-//Sabre//Sabre VObject 4.5.8//EN
CALSCALE:GREGORIAN
BEGIN:VTIMEZONE
TZID:Europe/Zurich
X-LIC-LOCATION:Europe/Zurich
TZURL:http://tzurl.org/zoneinfo/Europe/Zurich
BEGIN:DAYLIGHT
TZOFFSETFROM:+0100
TZOFFSETTO:+0200
TZNAME:CEST
DTSTART:19810329T020000
RRULE:FREQ=YEARLY;BYMONTH=3;BYDAY=-1SU
END:DAYLIGHT
BEGIN:STANDARD
TZOFFSETFROM:+0200
TZOFFSETTO:+0100
TZNAME:CET
DTSTART:19961027T030000
RRULE:FREQ=YEARLY;BYMONTH=10;BYDAY=-1SU
END:STANDARD
END:VTIMEZONE
BEGIN:VEVENT
UID:news5153@zasb.unibas.ch
DTSTAMP;TZID=Europe/Zurich:20260415T124114
DTSTART;TZID=Europe/Zurich:20260416T140000
SUMMARY:Margo Natalie Crawford: "The Diasporic Shock of Elsewhere in Africa
 n and African American Literature"
DESCRIPTION:What does it mean to encounter “elsewhere” through literatu
 re and art? How do texts\, images\, and exchanges across the African diasp
 ora reshape the boundaries between African and African American cultural p
 roduction?\\r\\nIn this seminar\, Margo Natalie Crawford explores these qu
 estions through Édouard Glissant’s concept of the “shock of elsewhere
 .” Drawing on works such as Chimamanda Adichie’s “Americanah”\, th
 e letters between Bessie Head and Langston Hughes\, Ama Ata Aidoo’s “O
 ur Sister Killjoy” and “The Dilemma of a Ghost”\, and the poetry of 
 Keorapetse Kgositsile\, the lecture examines the diasporic impulse that co
 ntinues to blur literary\, cultural\, and geographic boundaries. The sessi
 on will also consider how book covers and visual art illuminate this Black
  diasporic “shock of elsewhere.”
X-ALT-DESC:<p>What does it mean to encounter “elsewhere” through litera
 ture and art? How do texts\, images\, and exchanges across the African dia
 spora reshape the boundaries between African and African American cultural
  production?</p>\n<p>In this seminar\, Margo Natalie Crawford explores the
 se questions through Édouard Glissant’s concept of the “shock of else
 where.” Drawing on works such as Chimamanda Adichie’s “Americanah”
 \, the letters between Bessie Head and Langston Hughes\, Ama Ata Aidoo’s
  “Our Sister Killjoy” and “The Dilemma of a Ghost”\, and the poetr
 y of Keorapetse Kgositsile\, the lecture examines the diasporic impulse th
 at continues to blur literary\, cultural\, and geographic boundaries. The 
 session will also consider how book covers and visual art illuminate this 
 Black diasporic “shock of elsewhere.”</p>
END:VEVENT
END:VCALENDAR
