BEGIN:VCALENDAR
VERSION:2.0
PRODID:-//Sabre//Sabre VObject 4.5.8//EN
CALSCALE:GREGORIAN
BEGIN:VTIMEZONE
TZID:Europe/Zurich
X-LIC-LOCATION:Europe/Zurich
TZURL:http://tzurl.org/zoneinfo/Europe/Zurich
BEGIN:DAYLIGHT
TZOFFSETFROM:+0100
TZOFFSETTO:+0200
TZNAME:CEST
DTSTART:19810329T020000
RRULE:FREQ=YEARLY;BYMONTH=3;BYDAY=-1SU
END:DAYLIGHT
BEGIN:STANDARD
TZOFFSETFROM:+0200
TZOFFSETTO:+0100
TZNAME:CET
DTSTART:19961027T030000
RRULE:FREQ=YEARLY;BYMONTH=10;BYDAY=-1SU
END:STANDARD
END:VTIMEZONE
BEGIN:VEVENT
UID:news5167@zasb.unibas.ch
DTSTAMP;TZID=Europe/Zurich:20260422T110431
DTSTART;TZID=Europe/Zurich:20260428T180000
SUMMARY:Podiumsgespräch & Buchpräsentation: "The Windhoek Old Location"
DESCRIPTION:Der Münchner Fotograf Dieter Hinrichs dokumentierte 1959/60 af
 rikanisches Alltagsleben und koloniale Zwangsumsiedlung in Windhoek. Seine
  eindrucksvollen schwarz/weiss Fotografien sind in Deutschland kaum bekann
 t. Jüngst wurden sie als zentraler Teil einer Sozialgeschichte der „Old
  Location“ Windhoeks neu veröffentlicht.\\r\\nIm Gespräch mit Hinrichs
  führen der deutsch-namibische Politologe und Autor Henning Melber und di
 e namibische Künstlerin und dekoloniale Aktivistin Hildegard Titus in Wen
 depunkte und Bildzeugnisse der Befreiungsgeschichte der ehemals deutschen 
 Kolonie ein.
X-ALT-DESC:<p>Der Münchner Fotograf Dieter Hinrichs dokumentierte 1959/60 
 afrikanisches Alltagsleben und koloniale Zwangsumsiedlung in Windhoek. Sei
 ne eindrucksvollen schwarz/weiss Fotografien sind in Deutschland kaum beka
 nnt. Jüngst wurden sie als zentraler Teil einer Sozialgeschichte der „O
 ld Location“ Windhoeks neu veröffentlicht.</p>\n<p>Im Gespräch mit Hin
 richs führen der deutsch-namibische Politologe und Autor Henning Melber u
 nd die namibische Künstlerin und dekoloniale Aktivistin Hildegard Titus i
 n Wendepunkte und Bildzeugnisse der Befreiungsgeschichte der ehemals deuts
 chen Kolonie ein.</p>
END:VEVENT
END:VCALENDAR
