BEGIN:VCALENDAR
VERSION:2.0
PRODID:-//Sabre//Sabre VObject 4.5.8//EN
CALSCALE:GREGORIAN
BEGIN:VTIMEZONE
TZID:Europe/Zurich
X-LIC-LOCATION:Europe/Zurich
TZURL:http://tzurl.org/zoneinfo/Europe/Zurich
BEGIN:DAYLIGHT
TZOFFSETFROM:+0100
TZOFFSETTO:+0200
TZNAME:CEST
DTSTART:19810329T020000
RRULE:FREQ=YEARLY;BYMONTH=3;BYDAY=-1SU
END:DAYLIGHT
BEGIN:STANDARD
TZOFFSETFROM:+0200
TZOFFSETTO:+0100
TZNAME:CET
DTSTART:19961027T030000
RRULE:FREQ=YEARLY;BYMONTH=10;BYDAY=-1SU
END:STANDARD
END:VTIMEZONE
BEGIN:VEVENT
UID:news5166@zasb.unibas.ch
DTSTAMP;TZID=Europe/Zurich:20260422T105410
DTSTART;TZID=Europe/Zurich:20260506T181500
SUMMARY:Louis Herns Marcelin & Ola Osman: "Legacies of Enslavement & contem
 porary violence in Liberia & Haiti"
DESCRIPTION:This round‑table conversation brings together Louis Herns Mar
 celin (University of Miami) and Ola Osman (University of Cambridge) for an
  in‑depth conversation examining how the legacies of enslavement and col
 onialism shape contemporary forms of violence in Liberia and Haiti.\\r\\nD
 rawing on long‑term research in both regions\, the speakers will explore
  the intersections of kinship\, social organization\, political conflict\,
  gender\, and structural inequality. The discussion will consider both his
 torical trajectories and present‑day challenges\, illuminating how the a
 fterlives of enslavement shape experiences of insecurity\, marginalization
 \, and resilience.
X-ALT-DESC:<p>This round‑table conversation brings together Louis Herns M
 arcelin (University of Miami) and Ola Osman (University of Cambridge) for 
 an in‑depth conversation examining how the legacies of enslavement and c
 olonialism shape contemporary forms of violence in Liberia and Haiti.</p>\
 n<p>Drawing on long‑term research in both regions\, the speakers will ex
 plore the intersections of kinship\, social organization\, political confl
 ict\, gender\, and structural inequality. The discussion will consider bot
 h historical trajectories and present‑day challenges\, illuminating how 
 the afterlives of enslavement shape experiences of insecurity\, marginaliz
 ation\, and resilience.</p>
DTEND;TZID=Europe/Zurich:20260506T194500
END:VEVENT
END:VCALENDAR
