BEGIN:VCALENDAR
VERSION:2.0
PRODID:-//Sabre//Sabre VObject 4.5.8//EN
CALSCALE:GREGORIAN
BEGIN:VTIMEZONE
TZID:Europe/Zurich
X-LIC-LOCATION:Europe/Zurich
TZURL:http://tzurl.org/zoneinfo/Europe/Zurich
BEGIN:DAYLIGHT
TZOFFSETFROM:+0100
TZOFFSETTO:+0200
TZNAME:CEST
DTSTART:19810329T020000
RRULE:FREQ=YEARLY;BYMONTH=3;BYDAY=-1SU
END:DAYLIGHT
BEGIN:STANDARD
TZOFFSETFROM:+0200
TZOFFSETTO:+0100
TZNAME:CET
DTSTART:19961027T030000
RRULE:FREQ=YEARLY;BYMONTH=10;BYDAY=-1SU
END:STANDARD
END:VTIMEZONE
BEGIN:VEVENT
UID:news5167@zasb.unibas.ch
DTSTAMP;TZID=Europe/Zurich:20260422T110417
DTSTART;TZID=Europe/Zurich:20260428T180000
SUMMARY:Round Table & Book Presentation: "The Windhoek Old Location"
DESCRIPTION:Munich photographer Dieter Hinrichs documented African everyday
  life and colonial forced removals in 1959&60 in Windhoek. His impressive 
 black and white images are unknown in Germany. They were recently publishe
 d as a central component of a broader social history of Windhoek’s “Ol
 d Location”.\\r\\nIn conversation with Hinrichs\, the German-Namibian po
 litical scientist and author Henning Melber and the Namibian decolonial ar
 tist and activist Hildegard Titus introduce turning points and visual docu
 ments shaping the liberation history of Namibia\, a former German colony.
X-ALT-DESC:<p>Munich photographer Dieter Hinrichs documented African everyd
 ay life and colonial forced removals in 1959&amp\;60 in Windhoek. His impr
 essive black and white images are unknown in Germany. They were recently p
 ublished as a central component of a broader social history of Windhoek’
 s “Old Location”.</p>\n<p>In conversation with Hinrichs\, the German-N
 amibian political scientist and author Henning Melber and the Namibian dec
 olonial artist and activist Hildegard Titus introduce turning points and v
 isual documents shaping the liberation history of Namibia\, a former Germa
 n colony.</p>
END:VEVENT
END:VCALENDAR
