BEGIN:VCALENDAR
VERSION:2.0
PRODID:-//Sabre//Sabre VObject 4.5.8//EN
CALSCALE:GREGORIAN
BEGIN:VTIMEZONE
TZID:Europe/Zurich
X-LIC-LOCATION:Europe/Zurich
TZURL:http://tzurl.org/zoneinfo/Europe/Zurich
BEGIN:DAYLIGHT
TZOFFSETFROM:+0100
TZOFFSETTO:+0200
TZNAME:CEST
DTSTART:19810329T020000
RRULE:FREQ=YEARLY;BYMONTH=3;BYDAY=-1SU
END:DAYLIGHT
BEGIN:STANDARD
TZOFFSETFROM:+0200
TZOFFSETTO:+0100
TZNAME:CET
DTSTART:19961027T030000
RRULE:FREQ=YEARLY;BYMONTH=10;BYDAY=-1SU
END:STANDARD
END:VTIMEZONE
BEGIN:VEVENT
UID:news5161@zasb.unibas.ch
DTSTAMP;TZID=Europe/Zurich:20260421T133507
DTSTART;TZID=Europe/Zurich:20260512T150000
SUMMARY:Webinar: "The dignity of water - sacred rivers and lakes"
DESCRIPTION:In the new webinar series "Global Voices - Acting Together for 
 Peace"\, Mission 21 asks about a respectful and sustainable relationship w
 ith the earth and its elements\, earth\, water and fire. This second webin
 ar in the series focuses on the connection of indigenous communities to wa
 ter and on examples and possibilities of water protection.\\r\\nWith Julio
  César Mejía Tapia – lawyer\, activist and researcher from Peru –\, 
 María Ximena González-Serrano – lawyer\, activist and researcher from 
 Colombia and Switzerland – and the Indigenous Women’s Network for the 
 Protection of Lake Titicaca.\\r\\nLectures and discussion in Spanish and E
 nglish\, translation into German. 
X-ALT-DESC:<p>In the new webinar series "Global Voices - Acting Together fo
 r Peace"\, Mission 21 asks about a respectful and sustainable relationship
  with the earth and its elements\, earth\, water and fire. This second web
 inar in the series focuses on the connection of indigenous communities to 
 water and on examples and possibilities of water protection.</p>\n<p>With 
 Julio César Mejía Tapia – lawyer\, activist and researcher from Peru 
 –\, María Ximena González-Serrano – lawyer\, activist and researcher
  from Colombia and Switzerland – and the Indigenous Women’s Network fo
 r the Protection of Lake Titicaca.</p>\n<p>Lectures and discussion in Span
 ish and English\, translation into German.&nbsp\;</p>
DTEND;TZID=Europe/Zurich:20260512T163000
END:VEVENT
END:VCALENDAR
