BEGIN:VCALENDAR
VERSION:2.0
PRODID:-//Sabre//Sabre VObject 4.5.8//EN
CALSCALE:GREGORIAN
BEGIN:VTIMEZONE
TZID:Europe/Zurich
X-LIC-LOCATION:Europe/Zurich
TZURL:http://tzurl.org/zoneinfo/Europe/Zurich
BEGIN:DAYLIGHT
TZOFFSETFROM:+0100
TZOFFSETTO:+0200
TZNAME:CEST
DTSTART:19810329T020000
RRULE:FREQ=YEARLY;BYMONTH=3;BYDAY=-1SU
END:DAYLIGHT
BEGIN:STANDARD
TZOFFSETFROM:+0200
TZOFFSETTO:+0100
TZNAME:CET
DTSTART:19961027T030000
RRULE:FREQ=YEARLY;BYMONTH=10;BYDAY=-1SU
END:STANDARD
END:VTIMEZONE
BEGIN:VEVENT
UID:news5141@zasb.unibas.ch
DTSTAMP;TZID=Europe/Zurich:20260408T105624
DTSTART;TZID=Europe/Zurich:20260418T150000
SUMMARY:Aline Motta & Denise Bertschi: Artist Walk "Archives & Stories"
DESCRIPTION:In this conversation\, artists Aline Motta and Denise Bertschi 
 explore artistic research as a method\, their love of archives\, and their
  search for history and memory between Brazil and Switzerland.\\r\\nAline 
 Motta is a multidisciplinary artist whose work explores her family history
  through video\, photography\, installations\, and performances.\\r\\nDeni
 se Bertschi's artistic and scientific work lies at the intersection of mat
 erial visual culture studies and architecture history. She examines not on
 ly archives\, but also landscapes and the built environment for traces of 
 Switzerland's colonial and extractive involvement in extra-European expans
 ion.
X-ALT-DESC:<p>In this conversation\, artists Aline Motta and Denise Bertsch
 i explore artistic research as a method\, their love of archives\, and the
 ir search for history and memory between Brazil and Switzerland.</p>\n<p>A
 line Motta is a multidisciplinary artist whose work explores her family hi
 story through video\, photography\, installations\, and performances.</p>\
 n<p>Denise Bertschi's artistic and scientific work lies at the intersectio
 n of material visual culture studies and architecture history. She examine
 s not only archives\, but also landscapes and the built environment for tr
 aces of Switzerland's colonial and extractive involvement in extra-Europea
 n expansion.</p>
DTEND;TZID=Europe/Zurich:20260418T160000
END:VEVENT
END:VCALENDAR
