BEGIN:VCALENDAR
VERSION:2.0
PRODID:-//Sabre//Sabre VObject 4.5.8//EN
CALSCALE:GREGORIAN
BEGIN:VTIMEZONE
TZID:Europe/Zurich
X-LIC-LOCATION:Europe/Zurich
TZURL:http://tzurl.org/zoneinfo/Europe/Zurich
BEGIN:DAYLIGHT
TZOFFSETFROM:+0100
TZOFFSETTO:+0200
TZNAME:CEST
DTSTART:19810329T020000
RRULE:FREQ=YEARLY;BYMONTH=3;BYDAY=-1SU
END:DAYLIGHT
BEGIN:STANDARD
TZOFFSETFROM:+0200
TZOFFSETTO:+0100
TZNAME:CET
DTSTART:19961027T030000
RRULE:FREQ=YEARLY;BYMONTH=10;BYDAY=-1SU
END:STANDARD
END:VTIMEZONE
BEGIN:VEVENT
UID:news5152@zasb.unibas.ch
DTSTAMP;TZID=Europe/Zurich:20260415T122746
DTSTART;TZID=Europe/Zurich:20260429T090000
SUMMARY:Forum scientifique 2026: "Le vivant en équilibre"
DESCRIPTION:Comment penser la santé humaine et environnementale face aux d
 éfis globaux actuels ? Quels rôles la recherche et l’innovation peuven
 t-elles jouer ? Et comment la coopération scientifique internationale peu
 t-elle en renforcer l’impact ? Ces questions seront au cœur du Forum sc
 ientifique qui se tiendra le mercredi 29 avril 2026 sur le campus de l’E
 cole Polytechnique Fédérale de Lausanne (EPFL).\\r\\nOrganisé par la Sw
 iss Leading House MENA dans le cadre de la coopération scientifique Suiss
 e-Maroc\, le Forum explorera les dynamiques du vivant à l’interface ent
 re santé\, environnement et société\, en croisant avancées scientifiqu
 es\, innovations technologiques et perspectives stratégiques.\\r\\nLe For
 um s’adresse aux chercheur·euses\, ingénieur·es et étudiant·es de d
 iverses disciplines travaillant sur des enjeux liés à la santé\, à l
 ’environnement et aux transformations sociétales\, ainsi qu’aux acteu
 r·ices engagé·es dans des démarches interdisciplinaires et dans la mis
 e en œuvre et le transfert des connaissances. En favorisant les échanges
  entre disciplines et institutions\, la journée permettra de mieux articu
 ler recherche et applications concrètes\, de découvrir des approches dé
 veloppées dans différents contextes et de faire émerger de nouvelles co
 llaborations autour des défis sanitaires\, environnementaux et sociaux.\\
 r\\nLa journée se conclura par un retour d’expérience de projet Suisse
 -Maroc\, suivi d’un apéritif-marketplace des instruments de soutien\, t
 emps d’échanges entre chercheur·euses\, institutions et agences de fin
 ancement pour explorer de nouvelles opportunités de recherche et de colla
 boration.\\r\\nÉvènement en français\, gratuit\, sur inscription – le
 s inscriptions sont ouvertes jusqu'au mercredi 15 avril 2026.
X-ALT-DESC:<p>Comment penser la santé humaine et environnementale face aux
  défis globaux actuels ? Quels rôles la recherche et l’innovation peuv
 ent-elles jouer ? Et comment la coopération scientifique internationale p
 eut-elle en renforcer l’impact ? Ces questions seront au cœur du Forum 
 scientifique qui se tiendra le mercredi 29 avril 2026 sur le campus de l
 ’Ecole Polytechnique Fédérale de Lausanne (EPFL).</p>\n<p>Organisé pa
 r la Swiss Leading House MENA dans le cadre de la coopération scientifiqu
 e Suisse-Maroc\, le Forum explorera les dynamiques du vivant à l’interf
 ace entre santé\, environnement et société\, en croisant avancées scie
 ntifiques\, innovations technologiques et perspectives stratégiques.</p>\
 n<p>Le Forum s’adresse aux chercheur·euses\, ingénieur·es et étudian
 t·es de diverses disciplines travaillant sur des enjeux liés à la sant
 é\, à l’environnement et aux transformations sociétales\, ainsi qu’
 aux acteur·ices engagé·es dans des démarches interdisciplinaires et da
 ns la mise en œuvre et le transfert des connaissances. En favorisant les 
 échanges entre disciplines et institutions\, la journée permettra de mie
 ux articuler recherche et applications concrètes\, de découvrir des appr
 oches développées dans différents contextes et de faire émerger de nou
 velles collaborations autour des défis sanitaires\, environnementaux et s
 ociaux.</p>\n<p>La journée se conclura par un retour d’expérience de p
 rojet Suisse-Maroc\, suivi d’un apéritif-marketplace des instruments de
  soutien\, temps d’échanges entre chercheur·euses\, institutions et ag
 ences de financement pour explorer de nouvelles opportunités de recherche
  et de collaboration.</p>\n<p>Évènement en français\, gratuit\, sur ins
 cription – les inscriptions sont ouvertes jusqu'au mercredi<strong> 15 a
 vril 2026</strong>.</p>
DTEND;TZID=Europe/Zurich:20260429T173000
END:VEVENT
END:VCALENDAR
