BEGIN:VCALENDAR
VERSION:2.0
PRODID:-//Sabre//Sabre VObject 4.5.8//EN
CALSCALE:GREGORIAN
BEGIN:VTIMEZONE
TZID:Europe/Zurich
X-LIC-LOCATION:Europe/Zurich
TZURL:http://tzurl.org/zoneinfo/Europe/Zurich
BEGIN:DAYLIGHT
TZOFFSETFROM:+0100
TZOFFSETTO:+0200
TZNAME:CEST
DTSTART:19810329T020000
RRULE:FREQ=YEARLY;BYMONTH=3;BYDAY=-1SU
END:DAYLIGHT
BEGIN:STANDARD
TZOFFSETFROM:+0200
TZOFFSETTO:+0100
TZNAME:CET
DTSTART:19961027T030000
RRULE:FREQ=YEARLY;BYMONTH=10;BYDAY=-1SU
END:STANDARD
END:VTIMEZONE
BEGIN:VEVENT
UID:news5155@zasb.unibas.ch
DTSTAMP;TZID=Europe/Zurich:20260415T141607
DTSTART;TZID=Europe/Zurich:20260418T160000
SUMMARY:Spirito Santo: "The Diffuse Memory of the Kingdom of Kongo in Brazi
 l"
DESCRIPTION:Kongo Academy is organizing a webinar with Brazilian professor 
 Spirito Santo on “The Diffuse Memory of the Kingdom of Kongo in Brazil
 ”.Meeting ID: 867 9377 5690 – Passcode: 950785
X-ALT-DESC:<p>Kongo Academy is organizing a webinar with Brazilian professo
 r Spirito Santo on “The Diffuse Memory of the Kingdom of Kongo in Brazil
 ”.<br /><br /><strong>Meeting ID:</strong> 867 9377 5690 – <strong>Pas
 scode:</strong>&nbsp\;950785</p>
END:VEVENT
END:VCALENDAR
